BEGIN:VCALENDAR
VERSION:2.0
PRODID:-//Webseite des SC Mitterfecking. Alles rund um die Abteilungen Fussball, Kraftsport, Tanzen, Tischtennis, Gymnastik, Beachvolleyball//NONSGML kigkonsult.se iCalcreator 2.41.92//
CALSCALE:GREGORIAN
METHOD:PUBLISH
UID:31363435-3036-4633-b939-316431386164
X-WR-CALNAME:iCagenda
X-WR-CALDESC:Event Management Extension for Joomla!
X-WR-RELCALID:3E26604A-50F4-4449-8B3E-E4F4932D05B5
X-WR-TIMEZONE:Europe/Berlin
BEGIN:VTIMEZONE
TZID:Europe/Berlin
TZUNTIL:20240331T010000Z
BEGIN:STANDARD
TZNAME:CET
DTSTART:20211031T030000
TZOFFSETFROM:+0200
TZOFFSETTO:+0100
RDATE:20221030T030000
RDATE:20231029T030000
END:STANDARD
BEGIN:DAYLIGHT
TZNAME:CEST
DTSTART:20220327T020000
TZOFFSETFROM:+0100
TZOFFSETTO:+0200
RDATE:20230326T020000
END:DAYLIGHT
END:VTIMEZONE
BEGIN:VEVENT
UID:30623939-3966-4238-a163-316632383866
DTSTAMP:20260419T151452Z
CATEGORIES:Kinderturnen
CLASS:PUBLIC
DESCRIPTION:
DTSTART:20220704T150000Z
DTEND:20220704T160000Z
GEO:00;0
LOCATION:
ORGANIZER:
SEQUENCE:1
SUMMARY:Kinderturnen
TRANSP:OPAQUE
URL:https://www.sc-mitterfecking.de/index.php/sc-mitterfecking-termine/368-
 kinderturnen/2022-07-04-17-00
END:VEVENT
END:VCALENDAR
